BEGIN:VCALENDAR
VERSION:2.0
PRODID:-//Library Market//iCal Export//EN
BEGIN:VEVENT
SUMMARY:Tween Art Class
UID:20600
DTSTAMP:20260426T043000Z
DTSTART:20260509T160000Z
DTEND:20260509T170000Z
LOCATION:Benbrook Public Library, 1065 Mercedes St., Benbrook, TX 76126, U
 nited States
ROOM: Kathy Ledford Meeting Room
DESCRIPTION:
URL:https://www.benbrooklibrary.org/event/tween-art-class-20600
END:VEVENT
END:VCALENDAR
