BEGIN:VCALENDAR
VERSION:2.0
PRODID:-//Library Market//iCal Export//EN
BEGIN:VEVENT
SUMMARY:Storm Science
UID:22251
DTSTAMP:20260420T083200Z
DTSTART:20260702T200000Z
DTEND:20260702T210000Z
LOCATION:Benbrook Public Library, 1065 Mercedes St., Benbrook, TX 76126, U
 nited States
ROOM: Kathy Ledford Meeting Room
DESCRIPTION:Ready for an awesome weather adventure? Come explore the wild 
 world of extreme weather with us! You&#039;ll get to experience the thrill
  of storm chasing, and learn about the science behind tornadoes and other 
 wild storms. Plus, we’ll teach you how to stay safe when the weather get
 s crazy! Have questions? You’ll also get the chance to ask anything you 
 want during our exciting Q&amp;A session. Get ready for a fun and unforget
 table journey into the heart of nature’s most powerful forces! 
URL:https://www.benbrooklibrary.org/event/thursday-performer-22251
END:VEVENT
END:VCALENDAR
