BEGIN:VCALENDAR
VERSION:2.0
PRODID:-//Library Market//iCal Export//EN
BEGIN:VEVENT
SUMMARY:Rob Holladay
UID:22252
DTSTAMP:20260420T100500Z
DTSTART:20260709T200000Z
DTEND:20260709T210000Z
LOCATION:Benbrook Public Library, 1065 Mercedes St., Benbrook, TX 76126, U
 nited States
ROOM: Kathy Ledford Meeting Room
DESCRIPTION:Get ready to laugh and embrace your silly alongside Rob Hollad
 ay as he uses his talent and humor to bring balloons to life. 
URL:https://www.benbrooklibrary.org/event/thursday-performer-22252
END:VEVENT
END:VCALENDAR
