BEGIN:VCALENDAR
VERSION:2.0
PRODID:-//Library Market//iCal Export//EN
BEGIN:VEVENT
SUMMARY:The Ramazinis
UID:22253
DTSTAMP:20260420T101700Z
DTSTART:20260716T200000Z
DTEND:20260716T210000Z
LOCATION:Benbrook Public Library, 1065 Mercedes St., Benbrook, TX 76126, U
 nited States
ROOM: Kathy Ledford Meeting Room
DESCRIPTION:Come see this &quot;Two Person Circus Show&quot; that features
  a variety of juggling acts and a heart-stopping acrobatic chair act that 
 makes your feel like you&#039;re at a real circus show! You&#039;ve never 
 seen a pair like this before! 
URL:https://www.benbrooklibrary.org/event/thursday-performer-22253
END:VEVENT
END:VCALENDAR
