BEGIN:VCALENDAR
VERSION:2.0
PRODID:-//Library Market//iCal Export//EN
BEGIN:VEVENT
SUMMARY:Dinosaur Valley State Park
UID:22254
DTSTAMP:20260420T100500Z
DTSTART:20260723T200000Z
DTEND:20260723T220000Z
LOCATION:Benbrook Public Library, 1065 Mercedes St., Benbrook, TX 76126, U
 nited States
ROOM: Kathy Ledford Meeting Room
DESCRIPTION:Give a big welcome to Texas&#039;s very own Dinosaur Valley St
 ate Park! Learn about the dinosaurs that roamed Dinosaur Valley (and Texas
 ) 113 million years ago. Examine replica dinosaur tracks and models expl
 ore the fossil dig area, and enjoy dinosaur-themed coloring.
URL:https://www.benbrooklibrary.org/event/thursday-performer-22254
END:VEVENT
END:VCALENDAR
