BEGIN:VCALENDAR
VERSION:2.0
PRODID:-//Library Market//iCal Export//EN
BEGIN:VEVENT
SUMMARY:Baby Sensory
UID:22502
DTSTAMP:20260420T130000Z
DTSTART:20261014T143000Z
DTEND:20261014T150000Z
LOCATION:Benbrook Public Library, 1065 Mercedes St., Benbrook, TX 76126, U
 nited States
ROOM: Kathy Ledford Meeting Room
DESCRIPTION:
URL:https://www.benbrooklibrary.org/event/baby-sensory-22502
END:VEVENT
END:VCALENDAR
