BEGIN:VCALENDAR
VERSION:2.0
PRODID:-//Library Market//iCal Export//EN
BEGIN:VEVENT
SUMMARY:Baby Sensory
UID:22503
DTSTAMP:20260420T130000Z
DTSTART:20261111T153000Z
DTEND:20261111T160000Z
LOCATION:Benbrook Public Library, 1065 Mercedes St., Benbrook, TX 76126, U
 nited States
ROOM: Kathy Ledford Meeting Room
DESCRIPTION:
URL:https://www.benbrooklibrary.org/event/baby-sensory-22503
END:VEVENT
END:VCALENDAR
